BEGIN:VCALENDAR
VERSION:2.0
PRODID:-//Sacramento COA - ECPv6.15.20//NONSGML v1.0//EN
CALSCALE:GREGORIAN
METHOD:PUBLISH
X-ORIGINAL-URL:https://sacramento.coaelite.com
X-WR-CALDESC:Events for Sacramento COA
REFRESH-INTERVAL;VALUE=DURATION:PT1H
X-Robots-Tag:noindex
X-PUBLISHED-TTL:PT1H
BEGIN:VTIMEZONE
TZID:America/Los_Angeles
BEGIN:DAYLIGHT
TZOFFSETFROM:-0800
TZOFFSETTO:-0700
TZNAME:PDT
DTSTART:20230312T100000
END:DAYLIGHT
BEGIN:STANDARD
TZOFFSETFROM:-0700
TZOFFSETTO:-0800
TZNAME:PST
DTSTART:20231105T090000
END:STANDARD
BEGIN:DAYLIGHT
TZOFFSETFROM:-0800
TZOFFSETTO:-0700
TZNAME:PDT
DTSTART:20240310T100000
END:DAYLIGHT
BEGIN:STANDARD
TZOFFSETFROM:-0700
TZOFFSETTO:-0800
TZNAME:PST
DTSTART:20241103T090000
END:STANDARD
BEGIN:DAYLIGHT
TZOFFSETFROM:-0800
TZOFFSETTO:-0700
TZNAME:PDT
DTSTART:20250309T100000
END:DAYLIGHT
BEGIN:STANDARD
TZOFFSETFROM:-0700
TZOFFSETTO:-0800
TZNAME:PST
DTSTART:20251102T090000
END:STANDARD
BEGIN:DAYLIGHT
TZOFFSETFROM:-0800
TZOFFSETTO:-0700
TZNAME:PDT
DTSTART:20260308T100000
END:DAYLIGHT
BEGIN:STANDARD
TZOFFSETFROM:-0700
TZOFFSETTO:-0800
TZNAME:PST
DTSTART:20261101T090000
END:STANDARD
BEGIN:DAYLIGHT
TZOFFSETFROM:-0800
TZOFFSETTO:-0700
TZNAME:PDT
DTSTART:20270314T100000
END:DAYLIGHT
BEGIN:STANDARD
TZOFFSETFROM:-0700
TZOFFSETTO:-0800
TZNAME:PST
DTSTART:20271107T090000
END:STANDARD
END:VTIMEZONE
BEGIN:VEVENT
DTSTART;TZID=America/Los_Angeles:20260420T190000
DTEND;TZID=America/Los_Angeles:20260420T200000
DTSTAMP:20260424T062308
CREATED:20260115T201017Z
LAST-MODIFIED:20260410T163252Z
UID:1241-1776711600-1776715200@sacramento.coaelite.com
SUMMARY:Platinum Parent Informational Meeting
DESCRIPTION:[vc_row disable_element=”yes”][vc_column][vc_single_image img_size=”full” alignment=”center” css=””][vc_empty_space][/vc_column][/vc_row][vc_row][vc_column][vc_column_text css=””]Join us for a virtual informational meeting for families interested in our Platinum teams. We’ll review season expectations\, practice schedules\, competition commitments\, and answer any questions you may have before casting calls. \nDate: 4/20/2026\nTime: 7:00 – 8:00 pm\nTeam: Platinum[/vc_column_text][vc_empty_space][/vc_column][/vc_row][vc_row][vc_column][vc_button title=”ZOOM MEETING” target=”_blank” full_width=”true” href=”https://us06web.zoom.us/meeting/register/3nMc3o9cTTOoB7ySNXkP2w”][vc_empty_space][/vc_column][/vc_row][vc_row][vc_column][vc_column_text]\n[/vc_column_text][/vc_column][/vc_row]
URL:https://sacramento.coaelite.com/event/platinum-parent-informational-meeting/
CATEGORIES:Upcoming Events,Zoom Meetings Cheer
ATTACH;FMTTYPE=image/jpeg:https://sacramento.coaelite.com/wp-content/uploads/sites/4/2026/01/Sac-2026-2027-Cheer-Overview.jpg
END:VEVENT
BEGIN:VEVENT
DTSTART;TZID=America/Los_Angeles:20241017T193000
DTEND;TZID=America/Los_Angeles:20241017T193000
DTSTAMP:20260424T062308
CREATED:20240119T191347Z
LAST-MODIFIED:20240619T190848Z
UID:956-1729193400-1729193400@sacramento.coaelite.com
SUMMARY:Bronze
DESCRIPTION:11
URL:https://us06web.zoom.us/meeting/register/tZEqdemqqj4uHtOdCR493KXHAil4pN6mi7SZ#/registration#new_tab
CATEGORIES:Zoom Meetings Cheer
END:VEVENT
BEGIN:VEVENT
DTSTART;TZID=America/Los_Angeles:20241003T193000
DTEND;TZID=America/Los_Angeles:20241003T193000
DTSTAMP:20260424T062308
CREATED:20240119T191313Z
LAST-MODIFIED:20240619T190853Z
UID:955-1727983800-1727983800@sacramento.coaelite.com
SUMMARY:Bronze
DESCRIPTION:11
URL:https://us06web.zoom.us/meeting/register/tZMkcu-hqTkvGdFuyg-u8uqCKWJnVTAf-Hyh#/registration#new_tab
CATEGORIES:Zoom Meetings Cheer
END:VEVENT
BEGIN:VEVENT
DTSTART;TZID=America/Los_Angeles:20240926T193000
DTEND;TZID=America/Los_Angeles:20240926T193000
DTSTAMP:20260424T062308
CREATED:20240119T191232Z
LAST-MODIFIED:20240619T190857Z
UID:954-1727379000-1727379000@sacramento.coaelite.com
SUMMARY:Bronze
DESCRIPTION:11
URL:https://us06web.zoom.us/meeting/register/tZYqce2urDksGtI4jBrdB_tgaaALOsBTHNS2#/registration#new_tab
CATEGORIES:Zoom Meetings Cheer
END:VEVENT
BEGIN:VEVENT
DTSTART;TZID=America/Los_Angeles:20240808T200000
DTEND;TZID=America/Los_Angeles:20240808T200000
DTSTAMP:20260424T062308
CREATED:20240119T191147Z
LAST-MODIFIED:20240619T190901Z
UID:952-1723147200-1723147200@sacramento.coaelite.com
SUMMARY:Silver
DESCRIPTION:11
URL:https://us06web.zoom.us/meeting/register/tZAkdOitpjovG9WV9ekHojvt9cuaH79xL34C#/registration#new_tab
CATEGORIES:Zoom Meetings Cheer
END:VEVENT
BEGIN:VEVENT
DTSTART;TZID=America/Los_Angeles:20240718T193000
DTEND;TZID=America/Los_Angeles:20240718T193000
DTSTAMP:20260424T062308
CREATED:20240119T191029Z
LAST-MODIFIED:20240619T190947Z
UID:951-1721331000-1721331000@sacramento.coaelite.com
SUMMARY:Silver
DESCRIPTION:11
URL:https://us06web.zoom.us/meeting/register/tZ0qdOCoqjooE9AemGDb8cQf52WgEIq-I7Tt#/registration#new_tab
CATEGORIES:Zoom Meetings Cheer
END:VEVENT
BEGIN:VEVENT
DTSTART;TZID=America/Los_Angeles:20240613T193000
DTEND;TZID=America/Los_Angeles:20240613T193000
DTSTAMP:20260424T062308
CREATED:20240119T191758Z
LAST-MODIFIED:20240619T190904Z
UID:957-1718307000-1718307000@sacramento.coaelite.com
SUMMARY:Silver
DESCRIPTION:11
URL:https://us06web.zoom.us/meeting/register/tZMrd-GhrTMjEtCPZ2OD_1HlQ8Y1gP4DxLmu#/registration#new_tab
CATEGORIES:Zoom Meetings Cheer
END:VEVENT
BEGIN:VEVENT
DTSTART;TZID=America/Los_Angeles:20240502T193000
DTEND;TZID=America/Los_Angeles:20240502T193000
DTSTAMP:20260424T062308
CREATED:20240119T190952Z
LAST-MODIFIED:20240619T190909Z
UID:950-1714678200-1714678200@sacramento.coaelite.com
SUMMARY:Platinum & Gold
DESCRIPTION:11
URL:https://us06web.zoom.us/meeting/register/tZUsd-Cvrz8jHNUTpHMeZ1QQpZ0AJwNkaOaX#/registration#new_tab
CATEGORIES:Zoom Meetings Cheer
END:VEVENT
BEGIN:VEVENT
DTSTART;TZID=America/Los_Angeles:20240411T193000
DTEND;TZID=America/Los_Angeles:20240411T193000
DTSTAMP:20260424T062308
CREATED:20240119T190907Z
LAST-MODIFIED:20240619T190912Z
UID:949-1712863800-1712863800@sacramento.coaelite.com
SUMMARY:Platinum & Gold
DESCRIPTION:11
URL:https://us06web.zoom.us/meeting/register/tZElfuGhrT8qGda9LTB_R2-ScdFo51yTWHVm#/registration#new_tab
CATEGORIES:Zoom Meetings Cheer
END:VEVENT
BEGIN:VEVENT
DTSTART;TZID=America/Los_Angeles:20240328T193000
DTEND;TZID=America/Los_Angeles:20240328T193000
DTSTAMP:20260424T062308
CREATED:20240119T190701Z
LAST-MODIFIED:20240619T190916Z
UID:948-1711654200-1711654200@sacramento.coaelite.com
SUMMARY:Platinum & Gold
DESCRIPTION:
URL:https://us06web.zoom.us/meeting/register/tZIldu6srTwsHdBmJa0FvN_ZwmTsmfc6wqn3#/registration#new_tab
CATEGORIES:Zoom Meetings Cheer
END:VEVENT
END:VCALENDAR