BEGIN:VCALENDAR
VERSION:2.0
PRODID:-//Sacramento COA - ECPv6.15.20//NONSGML v1.0//EN
CALSCALE:GREGORIAN
METHOD:PUBLISH
X-ORIGINAL-URL:https://sacramento.coaelite.com
X-WR-CALDESC:Events for Sacramento COA
REFRESH-INTERVAL;VALUE=DURATION:PT1H
X-Robots-Tag:noindex
X-PUBLISHED-TTL:PT1H
BEGIN:VTIMEZONE
TZID:America/Los_Angeles
BEGIN:DAYLIGHT
TZOFFSETFROM:-0800
TZOFFSETTO:-0700
TZNAME:PDT
DTSTART:20220313T100000
END:DAYLIGHT
BEGIN:STANDARD
TZOFFSETFROM:-0700
TZOFFSETTO:-0800
TZNAME:PST
DTSTART:20221106T090000
END:STANDARD
BEGIN:DAYLIGHT
TZOFFSETFROM:-0800
TZOFFSETTO:-0700
TZNAME:PDT
DTSTART:20230312T100000
END:DAYLIGHT
BEGIN:STANDARD
TZOFFSETFROM:-0700
TZOFFSETTO:-0800
TZNAME:PST
DTSTART:20231105T090000
END:STANDARD
BEGIN:DAYLIGHT
TZOFFSETFROM:-0800
TZOFFSETTO:-0700
TZNAME:PDT
DTSTART:20240310T100000
END:DAYLIGHT
BEGIN:STANDARD
TZOFFSETFROM:-0700
TZOFFSETTO:-0800
TZNAME:PST
DTSTART:20241103T090000
END:STANDARD
END:VTIMEZONE
BEGIN:VEVENT
DTSTART;VALUE=DATE:20230301
DTEND;VALUE=DATE:20230401
DTSTAMP:20260425T043146
CREATED:20230203T163236Z
LAST-MODIFIED:20230301T150259Z
UID:697-1677628800-1680307199@sacramento.coaelite.com
SUMMARY:March Madness - Registration Deal
DESCRIPTION:[vc_row][vc_column][vc_single_image image=”698″ img_size=”full”][vc_empty_space][vc_column_text]\nCOA Elite is offering a one of a kind opportunity to lock in your tuition rate for the YEAR by taking advantage of early registration in March. \nSAVE NOW! \nRegister for Season 6 between March 1 – March 31\, 2023 and save on your tuition for the year.\nDance Pricing $99 (March 1 – March 15) $109 March 16 – March 31st. \nDate: March 31\, 2023\nAges: 5+\nCost: Members $100 | Non-Members $185[/vc_column_text][vc_empty_space][vc_custom_heading text=”REGISTER NOW” font_container=”tag:h2|text_align:center|color:%23ffffff” use_theme_fonts=”yes” css=”.vc_custom_1646422902826{padding-top: 5px !important;padding-bottom: 5px !important;background-color: #000000 !important;}”][vc_empty_space height=”10px”][vc_row_inner equal_height=”yes” content_placement=”middle” gap=”10″][vc_column_inner width=”1/2″][vc_button title=”Cheer Registration” target=”_blank” full_width=”true” href=”https://sacramento.coaelite.com/new-all-star-season/”][/vc_column_inner][vc_column_inner width=”1/2″][vc_button title=”Dance Registration” target=”_blank” full_width=”true” href=”https://sacramento.coaelite.com/new-dance-season/”][/vc_column_inner][/vc_row_inner][/vc_column][/vc_row]
URL:https://sacramento.coaelite.com/event/march-madness-registration-deal/
CATEGORIES:Upcoming Events
ATTACH;FMTTYPE=image/jpeg:https://sacramento.coaelite.com/wp-content/uploads/sites/4/2023/02/COA-March-Madness-2.jpeg
END:VEVENT
END:VCALENDAR