BEGIN:VCALENDAR
VERSION:2.0
PRODID:-//Sacramento COA - ECPv6.15.20//NONSGML v1.0//EN
CALSCALE:GREGORIAN
METHOD:PUBLISH
X-ORIGINAL-URL:https://sacramento.coaelite.com
X-WR-CALDESC:Events for Sacramento COA
REFRESH-INTERVAL;VALUE=DURATION:PT1H
X-Robots-Tag:noindex
X-PUBLISHED-TTL:PT1H
BEGIN:VTIMEZONE
TZID:America/Los_Angeles
BEGIN:DAYLIGHT
TZOFFSETFROM:-0800
TZOFFSETTO:-0700
TZNAME:PDT
DTSTART:20210314T100000
END:DAYLIGHT
BEGIN:STANDARD
TZOFFSETFROM:-0700
TZOFFSETTO:-0800
TZNAME:PST
DTSTART:20211107T090000
END:STANDARD
BEGIN:DAYLIGHT
TZOFFSETFROM:-0800
TZOFFSETTO:-0700
TZNAME:PDT
DTSTART:20220313T100000
END:DAYLIGHT
BEGIN:STANDARD
TZOFFSETFROM:-0700
TZOFFSETTO:-0800
TZNAME:PST
DTSTART:20221106T090000
END:STANDARD
BEGIN:DAYLIGHT
TZOFFSETFROM:-0800
TZOFFSETTO:-0700
TZNAME:PDT
DTSTART:20230312T100000
END:DAYLIGHT
BEGIN:STANDARD
TZOFFSETFROM:-0700
TZOFFSETTO:-0800
TZNAME:PST
DTSTART:20231105T090000
END:STANDARD
END:VTIMEZONE
BEGIN:VEVENT
DTSTART;TZID=America/Los_Angeles:20220909T190000
DTEND;TZID=America/Los_Angeles:20220909T203000
DTSTAMP:20260424T180742
CREATED:20220811T192807Z
LAST-MODIFIED:20220819T211145Z
UID:652-1662750000-1662755400@sacramento.coaelite.com
SUMMARY:Mid-Season Cheer Parent Informational Meeting
DESCRIPTION:[vc_row][vc_column][vc_single_image image=”650″ img_size=”full”][vc_empty_space][vc_column_text]\nWe are thrilled that you are interested in the COA Elite Cheer program. Please join us at one of our informational sessions where you will get to meet the COA owners\, staff\, and learn about our mission\, history\, and program enhancements for Season 5! We will also cover topics such as fundraising\, travel expectations\, parent/athlete expectations\, and more! \nDon’t miss this opportunity to get all of your questions answered so that you are fully aware of the commitment requirements of being a COA athlete. \nWe hope to see you there! \nDate: September 9th\nCost: Free\nAges: Over 18[/vc_column_text][vc_empty_space][vc_custom_heading text=”REGISTER NOW” font_container=”tag:h2|text_align:center|color:%23ffffff” use_theme_fonts=”yes” css=”.vc_custom_1646422902826{padding-top: 5px !important;padding-bottom: 5px !important;background-color: #000000 !important;}”]Registration Is Now Closed! [/vc_column][/vc_row]
URL:https://sacramento.coaelite.com/event/mid-season-cheer-parent-informational-meeting/
CATEGORIES:Upcoming Events
ATTACH;FMTTYPE=image/png:https://sacramento.coaelite.com/wp-content/uploads/sites/4/2022/08/Save-The-Date-2-resized.png
END:VEVENT
END:VCALENDAR